BEGIN:VCALENDAR
VERSION:2.0
PRODID:-//Visit Hemavan Tärnaby AB - ECPv6.2.5//NONSGML v1.0//EN
CALSCALE:GREGORIAN
METHOD:PUBLISH
X-WR-CALNAME:Visit Hemavan Tärnaby AB
X-ORIGINAL-URL:https://fakta.visithemavantarnaby.se
X-WR-CALDESC:Events for Visit Hemavan Tärnaby AB
REFRESH-INTERVAL;VALUE=DURATION:PT1H
X-Robots-Tag:noindex
X-PUBLISHED-TTL:PT1H
BEGIN:VTIMEZONE
TZID:Europe/Stockholm
BEGIN:DAYLIGHT
TZOFFSETFROM:+0100
TZOFFSETTO:+0200
TZNAME:CEST
DTSTART:20160327T010000
END:DAYLIGHT
BEGIN:STANDARD
TZOFFSETFROM:+0200
TZOFFSETTO:+0100
TZNAME:CET
DTSTART:20161030T010000
END:STANDARD
END:VTIMEZONE
BEGIN:VEVENT
DTSTART;TZID=Europe/Stockholm:20160620T090000
DTEND;TZID=Europe/Stockholm:20160620T110000
DTSTAMP:20260421T202407
CREATED:20160613T091919Z
LAST-MODIFIED:20160613T091919Z
UID:1038-1466413200-1466420400@fakta.visithemavantarnaby.se
SUMMARY:Områdesutbildning sommar
DESCRIPTION:
URL:https://fakta.visithemavantarnaby.se/event/omradesutbildning-sommar/
LOCATION:Tärnaby Fjällhotell\, Östra Strandvägen 16\, Tärnaby\, 92064\, Sverige
END:VEVENT
END:VCALENDAR