BEGIN:VCALENDAR
VERSION:2.0
PRODID:-//Visit Hemavan Tärnaby AB - ECPv6.2.5//NONSGML v1.0//EN
CALSCALE:GREGORIAN
METHOD:PUBLISH
X-ORIGINAL-URL:https://fakta.visithemavantarnaby.se
X-WR-CALDESC:Events for Visit Hemavan Tärnaby AB
REFRESH-INTERVAL;VALUE=DURATION:PT1H
X-Robots-Tag:noindex
X-PUBLISHED-TTL:PT1H
BEGIN:VTIMEZONE
TZID:Europe/Stockholm
BEGIN:DAYLIGHT
TZOFFSETFROM:+0100
TZOFFSETTO:+0200
TZNAME:CEST
DTSTART:20160327T010000
END:DAYLIGHT
BEGIN:STANDARD
TZOFFSETFROM:+0200
TZOFFSETTO:+0100
TZNAME:CET
DTSTART:20161030T010000
END:STANDARD
END:VTIMEZONE
BEGIN:VEVENT
DTSTART;TZID=Europe/Stockholm:20160823T080000
DTEND;TZID=Europe/Stockholm:20160823T090000
DTSTAMP:20260421T132104
CREATED:20160608T172929Z
LAST-MODIFIED:20160608T172929Z
UID:1018-1471939200-1471942800@fakta.visithemavantarnaby.se
SUMMARY:Tärnabygruppen
DESCRIPTION:Visit Hemavan Tärnaby kommer kalla till mötet. \nOm ni har frågor om Hemavangruppen och Tärnabygruppen kontakta oss på telefon 0954-104 50 eller e-post: info@hemavantarnaby.se
URL:https://fakta.visithemavantarnaby.se/event/tarnabygruppen-2/
LOCATION:Tärnaby Fjällhotell\, Östra Strandvägen 16\, Tärnaby\, 92064\, Sverige
END:VEVENT
END:VCALENDAR